BEGIN:VCALENDAR
VERSION:2.0
PRODID:-//eventon.com NONSGML v1.0//EN
BEGIN:VEVENT
UID:69ed92d133677
DTSTAMP:20260426T062137
DTSTART:20221219T070000Z
DTEND:20221219T083000Z
LOCATION:Külső helyszín 
SUMMARY:Az én rágóm
DESCRIPTION: Ez egy rendhagyó előadás\,  mivel az alaptörténetet a varsói partnerszervezetünk\,  a Stop Klatka társulat dolgozta ki és készített belőle egy rövid bábfilmet\,  amit mi szinkronizáltunk. A bábfilm alapján a történetet már az osztályban a gyerekekkel és a szereplőket megjelenítő bábokkal együtt dolgozzuk fel.  A történetben Bencét ismerhetjük meg\,  aki sokszor[..]
END:VEVENT
END:VCALENDAR