BEGIN:VCALENDAR
VERSION:2.0
PRODID:-//eventon.com NONSGML v1.0//EN
BEGIN:VEVENT
UID:69eb3113e8d2b
DTSTAMP:20260424T110003
DTSTART:20211116T080000Z
DTEND:20211116T093000Z
LOCATION:Külső helyszín 
SUMMARY:Bevállalod?!
DESCRIPTION: Laura tizedikes. Vannak titkai\,  és nem is akar mindent megosztani édesanyjával. Vannak tervei is és ezeket szeretné titokban tartani. És vannak rossz emlékei is arról\,  amikor nem egyeztetett az édesanyjával a terveiről… De ezúttal sok minden forog kockán: Most egy fontos buliba szeretne elmenni\,  ahol ott lesz Ő. Van segítője[..]
END:VEVENT
END:VCALENDAR