BEGIN:VCALENDAR
VERSION:2.0
PRODID:-//eventon.com NONSGML v1.0//EN
BEGIN:VEVENT
UID:69e747e649ad2
DTSTAMP:20260421T114822
DTSTART:20210930T093000Z
DTEND:20210930T113000Z
LOCATION:Külső helyszín 
SUMMARY:Gumicukor
DESCRIPTION: Interaktív színházi nevelési előadás az iskolai bántalmazásról. Az előadásban egy általános iskola negyedikes osztályának történetét követjük\,  akik iskolai bántalmazás szemlélői. A folyamat első lépcsőjére lépve még eldönthetetlen\,  hogy ami történik az csúfolódás\,  viccelődés\,  rossz elszólás\,  vagy csak ártatlan játék a szavakkal. Később azonban kiderül\,  hogy az események hátterében szándékosság áll.[..]
END:VEVENT
END:VCALENDAR