BEGIN:VCALENDAR
VERSION:2.0
PRODID:-//eventon.com NONSGML v1.0//EN
BEGIN:VEVENT
UID:69e746e899d92
DTSTAMP:20260421T114408
DTSTART:20210419T070000Z
DTEND:20210419T083000Z
LOCATION:online 
SUMMARY:A mélyben
DESCRIPTION: “Rosszul érzem magam. Nyomasztóan. Beteg vagyok? Nem fáj semmim. Valami nehéz itt bent\,  itt a mellkasomban. Nem hagy aludni\,  nem hagy nyugodni. Valaki megmagyarázná\,  mi van velem? Mi történt? Mit tettem? Egyedül maradtam. Én nem ezt akartam. Nem is tudom\,  mit akartam\,  de nem ezt a súlyt a mellkasomba.“ Miért[..]
END:VEVENT
END:VCALENDAR