BEGIN:VCALENDAR
VERSION:2.0
PRODID:-//eventon.com NONSGML v1.0//EN
BEGIN:VEVENT
UID:69e73718e39d3
DTSTAMP:20260421T103640
DTSTART:20201216T070000Z
DTEND:20201216T084500Z
LOCATION:Külső helyszín 
SUMMARY:Velkám Központ - ELMARAD
DESCRIPTION: Helyszín-specifikus folyamatdráma a versenyről és a döntésekről 2050. december 1-jén játszódik történetünk\,  egy verőfényes napon\,  30 fokot mutat a hőmérő. Egy csoportnyi\,  kreatív adottságai miatt a fogvatartásból kiemelt fiatal érkezik a Velkám Központba\,  ahol a Város számára jeles napokhoz kapcsolódó előadásokon dolgoznak együtt az őket fogadó\,  magát művészetterapeutának valló tanárral.[..]
END:VEVENT
END:VCALENDAR