BEGIN:VCALENDAR
VERSION:2.0
PRODID:-//eventon.com NONSGML v1.0//EN
BEGIN:VEVENT
UID:69e73719762e4
DTSTAMP:20260421T103641
DTSTART:20200928T113000Z
DTEND:20200928T133000Z
LOCATION:Jurányi Ház Jurányi u. 1-3.\,  Budapest\,  1027
SUMMARY:Nemek
DESCRIPTION: Vitaszínház a nemi szerepelvárások kapcsán. Mit szabad egy fiúnak és mit szabad egy lánynak? Mit várunk el egymástól? Mit várunk el magunktól nemi alapon? Van mindebben szükségszerűség ma Magyarországon? Melyek a szexuális kapcsolatokra gyakorolt kulturális hatások? Mi magunk milyen változást szeretnénk elérni a témában? A színházi jelenetek által felvetett nézőpontokat[..]
END:VEVENT
END:VCALENDAR