BEGIN:VCALENDAR
VERSION:2.0
PRODID:-//eventon.com NONSGML v1.0//EN
BEGIN:VEVENT
UID:69e7372e21c71
DTSTAMP:20260421T103702
DTSTART:20200506T080000Z
DTEND:20200506T100000Z
LOCATION:Külső helyszín 
SUMMARY:Nemek -ELMARAD
DESCRIPTION: Vitaszínház a nemi szerepelvárások kapcsán. Mit szabad egy fiúnak és mit szabad egy lánynak? Mit várunk el egymástól? Mit várunk el magunktól nemi alapon? Van mindebben szükségszerűség ma Magyarországon? Melyek a szexuális kapcsolatokra gyakorolt kulturális hatások? Mi magunk milyen változást szeretnénk elérni a témában? A színházi jelenetek által felvetett nézőpontokat[..]
END:VEVENT
END:VCALENDAR