BEGIN:VCALENDAR
VERSION:2.0
PRODID:-//eventon.com NONSGML v1.0//EN
BEGIN:VEVENT
UID:69e4e6fdeb81a
DTSTAMP:20260419T163021
DTSTART:20200220T070000Z
DTEND:20200220T081000Z
LOCATION:Külső helyszín 
SUMMARY:Pöttyök - álomjáték
DESCRIPTION: Előadásunkban egy közös játékra hívjuk a gyerekeket az álmok világába\,  ahol mozgással\,  szóval\,  énekkel és rajzzal alkotjuk meg a történetet. Abban hiszünk\,  hogy az együttlétünk egy kölcsönös tanulási folyamat\,  az önfeledt és mindent felülíró játékkedvről\,  ami a művészet és mint olyan\,  az élet alapja. Szeretnénk az önkifejezés eszközeinek sokféleségét erősíteni a gyerekekben\, [..]
END:VEVENT
END:VCALENDAR