BEGIN:VCALENDAR
VERSION:2.0
PRODID:-//eventon.com NONSGML v1.0//EN
BEGIN:VEVENT
UID:69e9d9b7038e5
DTSTAMP:20260423T103503
DTSTART:20191007T140000Z
DTEND:20191007T160000Z
LOCATION:Jurányi Ház Jurányi u. 1-3.\,  Budapest\,  1027
SUMMARY:KARIKA
DESCRIPTION: Mivel foglalkozunk a színjátszókörön? Megpróbáljuk kihozni magunkból és egymásból a legtöbbet. Megtanuljuk kifejezni magunkat és az érzelmeinket. Feszegetjük a saját határainkat. Együtt lélegzünk. Csapatépítő és készségfejlesztő játékokat játszunk\,  improvizációs gyakorlatokat csinálunk (olyasmiket\,  mint a Beugróban)\,  történeteket gyártunk\,  dolgozunk fel\,  jelenítünk meg\,  beszélgetünk róluk akár színházi akár más művészeti formákon keresztül\,  és[..]
END:VEVENT
END:VCALENDAR